BEGIN:VCALENDAR
VERSION:2.0
PRODID:-//Legacy Park - ECPv6.15.20//NONSGML v1.0//EN
CALSCALE:GREGORIAN
METHOD:PUBLISH
X-WR-CALNAME:Legacy Park
X-ORIGINAL-URL:https://legacypark.org
X-WR-CALDESC:Events for Legacy Park
REFRESH-INTERVAL;VALUE=DURATION:PT1H
X-Robots-Tag:noindex
X-PUBLISHED-TTL:PT1H
BEGIN:VTIMEZONE
TZID:America/New_York
BEGIN:DAYLIGHT
TZOFFSETFROM:-0500
TZOFFSETTO:-0400
TZNAME:EDT
DTSTART:20240310T070000
END:DAYLIGHT
BEGIN:STANDARD
TZOFFSETFROM:-0400
TZOFFSETTO:-0500
TZNAME:EST
DTSTART:20241103T060000
END:STANDARD
BEGIN:DAYLIGHT
TZOFFSETFROM:-0500
TZOFFSETTO:-0400
TZNAME:EDT
DTSTART:20250309T070000
END:DAYLIGHT
BEGIN:STANDARD
TZOFFSETFROM:-0400
TZOFFSETTO:-0500
TZNAME:EST
DTSTART:20251102T060000
END:STANDARD
BEGIN:DAYLIGHT
TZOFFSETFROM:-0500
TZOFFSETTO:-0400
TZNAME:EDT
DTSTART:20260308T070000
END:DAYLIGHT
BEGIN:STANDARD
TZOFFSETFROM:-0400
TZOFFSETTO:-0500
TZNAME:EST
DTSTART:20261101T060000
END:STANDARD
END:VTIMEZONE
BEGIN:VEVENT
DTSTART;TZID=America/New_York:20250701T190000
DTEND;TZID=America/New_York:20250701T200000
DTSTAMP:20260422T063623
CREATED:20231106T152223Z
LAST-MODIFIED:20231106T152909Z
UID:10002388-1751396400-1751400000@legacypark.org
SUMMARY:Covenants Committee Meeting
DESCRIPTION:
URL:https://legacypark.org/event-calendar/covenants-committee-meeting-26-2024-03-05/2025-07-01
LOCATION:Legacy Park Clubhouse\, Kennesaw\, GA\, 30144
END:VEVENT
BEGIN:VEVENT
DTSTART;TZID=America/New_York:20250702T173000
DTEND;TZID=America/New_York:20250702T183000
DTSTAMP:20260422T063623
CREATED:20250521T130445Z
LAST-MODIFIED:20250623T114546Z
UID:10003262-1751477400-1751481000@legacypark.org
SUMMARY:Line Dance-Pop Up Class (Clubhouse)
DESCRIPTION:
URL:https://legacypark.org/event-calendar/line-dance-pop-up-class
END:VEVENT
BEGIN:VEVENT
DTSTART;VALUE=DATE:20250704
DTEND;VALUE=DATE:20250705
DTSTAMP:20260422T063623
CREATED:20240625T173534Z
LAST-MODIFIED:20241029T201538Z
UID:10002708-1751587200-1751673599@legacypark.org
SUMMARY:Clubhouse & HOA Office Closed
DESCRIPTION:
URL:https://legacypark.org/event-calendar/clubhouse-closed-155
END:VEVENT
BEGIN:VEVENT
DTSTART;VALUE=DATE:20250704
DTEND;VALUE=DATE:20250705
DTSTAMP:20260422T063623
CREATED:20250123T161423Z
LAST-MODIFIED:20250123T161423Z
UID:10003137-1751587200-1751673599@legacypark.org
SUMMARY:Independence Day
DESCRIPTION:
URL:https://legacypark.org/event-calendar/independence-day-5
END:VEVENT
BEGIN:VEVENT
DTSTART;TZID=America/New_York:20250704T170000
DTEND;TZID=America/New_York:20250704T220000
DTSTAMP:20260422T063623
CREATED:20240625T173503Z
LAST-MODIFIED:20240625T173503Z
UID:10002707-1751648400-1751666400@legacypark.org
SUMMARY:Spirit of America Celebration
DESCRIPTION:
URL:https://legacypark.org/event-calendar/spirit-of-america-celebration-2
END:VEVENT
BEGIN:VEVENT
DTSTART;VALUE=DATE:20250705
DTEND;VALUE=DATE:20250706
DTSTAMP:20260422T063623
CREATED:20250520T153410Z
LAST-MODIFIED:20250520T153410Z
UID:10003261-1751673600-1751759999@legacypark.org
SUMMARY:HOA Office Closed
DESCRIPTION:
URL:https://legacypark.org/event-calendar/hoa-office-closed-48
END:VEVENT
BEGIN:VEVENT
DTSTART;TZID=America/New_York:20250705T090000
DTEND;TZID=America/New_York:20250705T110000
DTSTAMP:20260422T063623
CREATED:20250321T170706Z
LAST-MODIFIED:20250321T170706Z
UID:10003198-1751706000-1751713200@legacypark.org
SUMMARY:LP Trash Warriors
DESCRIPTION:
URL:https://legacypark.org/event-calendar/lp-trash-warriors-9/2025-07-05
END:VEVENT
BEGIN:VEVENT
DTSTART;TZID=America/New_York:20250705T100000
DTEND;TZID=America/New_York:20250705T120000
DTSTAMP:20260422T063623
CREATED:20250110T151347Z
LAST-MODIFIED:20250110T151347Z
UID:10003050-1751709600-1751716800@legacypark.org
SUMMARY:LP Trash Warriors
DESCRIPTION:
URL:https://legacypark.org/event-calendar/lp-trash-warriors-7/2025-07-05
END:VEVENT
BEGIN:VEVENT
DTSTART;TZID=America/New_York:20250705T170000
DTEND;TZID=America/New_York:20250705T230000
DTSTAMP:20260422T063623
CREATED:20250418T163459Z
LAST-MODIFIED:20250418T163459Z
UID:10003214-1751734800-1751756400@legacypark.org
SUMMARY:*Ragozzine Event
DESCRIPTION:
URL:https://legacypark.org/event-calendar/ragozzine-event
LOCATION:Legacy Park Clubhouse\, Kennesaw\, GA\, 30144
END:VEVENT
BEGIN:VEVENT
DTSTART;TZID=America/New_York:20250706T090000
DTEND;TZID=America/New_York:20250706T210000
DTSTAMP:20260422T063623
CREATED:20250524T212004Z
LAST-MODIFIED:20250524T212004Z
UID:10003263-1751792400-1751835600@legacypark.org
SUMMARY:Private Event
DESCRIPTION:Candace throwing shower for Stallings
URL:https://legacypark.org/event-calendar/private-event-67
LOCATION:Legacy Park Clubhouse\, Kennesaw\, GA\, 30144
END:VEVENT
BEGIN:VEVENT
DTSTART;VALUE=DATE:20250707
DTEND;VALUE=DATE:20250708
DTSTAMP:20260422T063623
CREATED:20250604T182553Z
LAST-MODIFIED:20250604T182553Z
UID:10003266-1751846400-1751932799@legacypark.org
SUMMARY:HOA Office Closed
DESCRIPTION:
URL:https://legacypark.org/event-calendar/hoa-office-closed-49
LOCATION:Legacy Park HOA Office (under the Clubhouse)\, Kennesaw\, Georgia\, 30144\, US
END:VEVENT
BEGIN:VEVENT
DTSTART;TZID=America/New_York:20250707T153000
DTEND;TZID=America/New_York:20250707T190000
DTSTAMP:20260422T063623
CREATED:20250124T014428Z
LAST-MODIFIED:20250124T014428Z
UID:10003150-1751902200-1751914800@legacypark.org
SUMMARY:Kick Atlanta Martial Arts Program
DESCRIPTION:
URL:https://legacypark.org/event-calendar/kick-atlanta-martial-arts-program-30/2025-07-07
END:VEVENT
BEGIN:VEVENT
DTSTART;TZID=America/New_York:20250708T183000
DTEND;TZID=America/New_York:20250708T193000
DTSTAMP:20260422T063623
CREATED:20241029T195511Z
LAST-MODIFIED:20241202T193838Z
UID:10002874-1751999400-1752003000@legacypark.org
SUMMARY:Board Planning Session
DESCRIPTION:
URL:https://legacypark.org/event-calendar/board-planning-session-17/2025-07-08
END:VEVENT
BEGIN:VEVENT
DTSTART;TZID=America/New_York:20250709T190000
DTEND;TZID=America/New_York:20250709T200000
DTSTAMP:20260422T063623
CREATED:20231106T152542Z
LAST-MODIFIED:20231106T152542Z
UID:10002427-1752087600-1752091200@legacypark.org
SUMMARY:Closed Meeting
DESCRIPTION:
URL:https://legacypark.org/event-calendar/closed-meeting/2025-07-09
LOCATION:Legacy Park Clubhouse\, Kennesaw\, GA\, 30144
END:VEVENT
BEGIN:VEVENT
DTSTART;TZID=America/New_York:20250710T100000
DTEND;TZID=America/New_York:20250710T113000
DTSTAMP:20260422T063623
CREATED:20211115T163915Z
LAST-MODIFIED:20250306T152128Z
UID:10002201-1752141600-1752147000@legacypark.org
SUMMARY:Story Time
DESCRIPTION:
URL:https://legacypark.org/event-calendar/story-time-18-2025-07-08
LOCATION:Legacy Park Clubhouse\, Kennesaw\, GA\, 30144
END:VEVENT
BEGIN:VEVENT
DTSTART;TZID=America/New_York:20250710T163000
DTEND;TZID=America/New_York:20250710T203000
DTSTAMP:20260422T063623
CREATED:20250124T014559Z
LAST-MODIFIED:20250514T133026Z
UID:10003153-1752165000-1752179400@legacypark.org
SUMMARY:Kick Atlanta Martial Arts Program
DESCRIPTION:
URL:https://legacypark.org/event-calendar/kick-atlanta-martial-arts-program-31-2025-07-10/2025-07-10
END:VEVENT
BEGIN:VEVENT
DTSTART;VALUE=DATE:20250711
DTEND;VALUE=DATE:20250712
DTSTAMP:20260422T063623
CREATED:20250617T174255Z
LAST-MODIFIED:20250617T174255Z
UID:10003274-1752192000-1752278399@legacypark.org
SUMMARY:Clubhouse Closed: Carpet Cleaning
DESCRIPTION:
URL:https://legacypark.org/event-calendar/clubhouse-closed-carpet-cleaning
END:VEVENT
BEGIN:VEVENT
DTSTART;TZID=America/New_York:20250712T090000
DTEND;TZID=America/New_York:20250712T163000
DTSTAMP:20260422T063623
CREATED:20241216T185554Z
LAST-MODIFIED:20250616T154939Z
UID:10002963-1752310800-1752337800@legacypark.org
SUMMARY:*Martin Event
DESCRIPTION:
URL:https://legacypark.org/event-calendar/private-event-66
LOCATION:Legacy Park Clubhouse\, Kennesaw\, GA\, 30144
END:VEVENT
BEGIN:VEVENT
DTSTART;TZID=America/New_York:20250712T170000
DTEND;TZID=America/New_York:20250712T230000
DTSTAMP:20260422T063623
CREATED:20250620T145328Z
LAST-MODIFIED:20250620T145328Z
UID:10003276-1752339600-1752361200@legacypark.org
SUMMARY:Private Event
DESCRIPTION:
URL:https://legacypark.org/event-calendar/private-event-70
LOCATION:Legacy Park Clubhouse\, Kennesaw\, GA\, 30144
END:VEVENT
BEGIN:VEVENT
DTSTART;TZID=America/New_York:20250713T143000
DTEND;TZID=America/New_York:20250713T183000
DTSTAMP:20260422T063623
CREATED:20250424T163816Z
LAST-MODIFIED:20250424T163816Z
UID:10003216-1752417000-1752431400@legacypark.org
SUMMARY:*Martin Event
DESCRIPTION:
URL:https://legacypark.org/event-calendar/martin-event-4
LOCATION:Legacy Park Clubhouse\, Kennesaw\, GA\, 30144
END:VEVENT
BEGIN:VEVENT
DTSTART;VALUE=DATE:20250714
DTEND;VALUE=DATE:20250715
DTSTAMP:20260422T063623
CREATED:20241120T190840Z
LAST-MODIFIED:20241120T190840Z
UID:10002919-1752451200-1752537599@legacypark.org
SUMMARY:Election Set Up
DESCRIPTION:
URL:https://legacypark.org/event-calendar/election-set-up
END:VEVENT
BEGIN:VEVENT
DTSTART;TZID=America/New_York:20250714T190000
DTEND;TZID=America/New_York:20250714T210000
DTSTAMP:20260422T063623
CREATED:20250123T145416Z
LAST-MODIFIED:20250123T163004Z
UID:10003118-1752519600-1752526800@legacypark.org
SUMMARY:Boy Scouts @ Amphitheater
DESCRIPTION:
URL:https://legacypark.org/event-calendar/boy-scouts-60-2025-07-14
LOCATION:Legacy Park Amphitheater\, Kennesaw\, GA\, 30144
END:VEVENT
BEGIN:VEVENT
DTSTART;VALUE=DATE:20250715
DTEND;VALUE=DATE:20250716
DTSTAMP:20260422T063623
CREATED:20241120T190249Z
LAST-MODIFIED:20241120T190736Z
UID:10002918-1752537600-1752623999@legacypark.org
SUMMARY:Election Day - Runoff
DESCRIPTION:
URL:https://legacypark.org/event-calendar/election-day-runoff
END:VEVENT
BEGIN:VEVENT
DTSTART;TZID=America/New_York:20250716T080000
DTEND;TZID=America/New_York:20250716T130000
DTSTAMP:20260422T063623
CREATED:20241120T183027Z
LAST-MODIFIED:20241120T184245Z
UID:10002915-1752652800-1752670800@legacypark.org
SUMMARY:Clubhouse Closed - Elections Pickup
DESCRIPTION:
URL:https://legacypark.org/event-calendar/elecion-day-runoff
END:VEVENT
BEGIN:VEVENT
DTSTART;TZID=America/New_York:20250717T163000
DTEND;TZID=America/New_York:20250717T203000
DTSTAMP:20260422T063623
CREATED:20250124T014559Z
LAST-MODIFIED:20250514T133026Z
UID:10003154-1752769800-1752784200@legacypark.org
SUMMARY:Kick Atlanta Martial Arts Program
DESCRIPTION:
URL:https://legacypark.org/event-calendar/kick-atlanta-martial-arts-program-31-2025-07-10/2025-07-17
END:VEVENT
BEGIN:VEVENT
DTSTART;TZID=America/New_York:20250718T170000
DTEND;TZID=America/New_York:20250718T230000
DTSTAMP:20260422T063623
CREATED:20250618T151013Z
LAST-MODIFIED:20250618T151013Z
UID:10003275-1752858000-1752879600@legacypark.org
SUMMARY:*Boughner Event
DESCRIPTION:
URL:https://legacypark.org/event-calendar/boughner-event-3
LOCATION:Legacy Park Clubhouse\, Kennesaw\, GA\, 30144
END:VEVENT
BEGIN:VEVENT
DTSTART;TZID=America/New_York:20250718T180000
DTEND;TZID=America/New_York:20250718T210000
DTSTAMP:20260422T063623
CREATED:20250714T144612Z
LAST-MODIFIED:20250714T144612Z
UID:10003286-1752861600-1752872400@legacypark.org
SUMMARY:Pickleball Mixer
DESCRIPTION:
URL:https://legacypark.org/event-calendar/pickleball-mixer-2
END:VEVENT
BEGIN:VEVENT
DTSTART;TZID=America/New_York:20250719T090000
DTEND;TZID=America/New_York:20250719T163000
DTSTAMP:20260422T063623
CREATED:20250418T162219Z
LAST-MODIFIED:20250717T161705Z
UID:10003213-1752915600-1752942600@legacypark.org
SUMMARY:*Cavanaugh Event
DESCRIPTION:
URL:https://legacypark.org/event-calendar/cavanaugh-event-3
LOCATION:Legacy Park Clubhouse\, Kennesaw\, GA\, 30144
END:VEVENT
BEGIN:VEVENT
DTSTART;TZID=America/New_York:20250719T093000
DTEND;TZID=America/New_York:20250719T113000
DTSTAMP:20260422T063623
CREATED:20241211T172100Z
LAST-MODIFIED:20241211T172100Z
UID:10002937-1752917400-1752924600@legacypark.org
SUMMARY:Free Beginner Pickleball Workshop (residents only)
DESCRIPTION:
URL:https://legacypark.org/event-calendar/free-beginner-pickleball-workshop-residents-only/2025-07-19
LOCATION:Tennis Courts\, Kennesaw\, Georgia\, 30144\, US
END:VEVENT
BEGIN:VEVENT
DTSTART;TZID=America/New_York:20250719T110000
DTEND;TZID=America/New_York:20250719T140000
DTSTAMP:20260422T063623
CREATED:20241211T171235Z
LAST-MODIFIED:20241211T171235Z
UID:10002932-1752922800-1752933600@legacypark.org
SUMMARY:Pickleball Party
DESCRIPTION:
URL:https://legacypark.org/event-calendar/pickleball-party-12
LOCATION:Tennis Courts\, Kennesaw\, Georgia\, 30144\, US
END:VEVENT
END:VCALENDAR