BEGIN:VCALENDAR
VERSION:2.0
PRODID:-//Legacy Park - ECPv6.15.20//NONSGML v1.0//EN
CALSCALE:GREGORIAN
METHOD:PUBLISH
X-WR-CALNAME:Legacy Park
X-ORIGINAL-URL:https://legacypark.org
X-WR-CALDESC:Events for Legacy Park
REFRESH-INTERVAL;VALUE=DURATION:PT1H
X-Robots-Tag:noindex
X-PUBLISHED-TTL:PT1H
BEGIN:VTIMEZONE
TZID:America/New_York
BEGIN:DAYLIGHT
TZOFFSETFROM:-0500
TZOFFSETTO:-0400
TZNAME:EDT
DTSTART:20250309T070000
END:DAYLIGHT
BEGIN:STANDARD
TZOFFSETFROM:-0400
TZOFFSETTO:-0500
TZNAME:EST
DTSTART:20251102T060000
END:STANDARD
BEGIN:DAYLIGHT
TZOFFSETFROM:-0500
TZOFFSETTO:-0400
TZNAME:EDT
DTSTART:20260308T070000
END:DAYLIGHT
BEGIN:STANDARD
TZOFFSETFROM:-0400
TZOFFSETTO:-0500
TZNAME:EST
DTSTART:20261101T060000
END:STANDARD
BEGIN:DAYLIGHT
TZOFFSETFROM:-0500
TZOFFSETTO:-0400
TZNAME:EDT
DTSTART:20270314T070000
END:DAYLIGHT
BEGIN:STANDARD
TZOFFSETFROM:-0400
TZOFFSETTO:-0500
TZNAME:EST
DTSTART:20271107T060000
END:STANDARD
BEGIN:DAYLIGHT
TZOFFSETFROM:-0500
TZOFFSETTO:-0400
TZNAME:EDT
DTSTART:20280312T070000
END:DAYLIGHT
BEGIN:STANDARD
TZOFFSETFROM:-0400
TZOFFSETTO:-0500
TZNAME:EST
DTSTART:20281105T060000
END:STANDARD
BEGIN:DAYLIGHT
TZOFFSETFROM:-0500
TZOFFSETTO:-0400
TZNAME:EDT
DTSTART:20290311T070000
END:DAYLIGHT
BEGIN:STANDARD
TZOFFSETFROM:-0400
TZOFFSETTO:-0500
TZNAME:EST
DTSTART:20291104T060000
END:STANDARD
END:VTIMEZONE
BEGIN:VEVENT
DTSTART;TZID=America/New_York:20260502T090000
DTEND;TZID=America/New_York:20260502T110000
DTSTAMP:20260420T112515
CREATED:20250110T150532Z
LAST-MODIFIED:20250110T150532Z
UID:10002992-1777712400-1777719600@legacypark.org
SUMMARY:HOA Office Open
DESCRIPTION:
URL:https://legacypark.org/event-calendar/hoa-office-open-77/2026-05-02
LOCATION:Legacy Park HOA Office (under the Clubhouse)\, Kennesaw\, Georgia\, 30144\, US
END:VEVENT
BEGIN:VEVENT
DTSTART;TZID=America/New_York:20260606T090000
DTEND;TZID=America/New_York:20260606T110000
DTSTAMP:20260420T112515
CREATED:20250110T150532Z
LAST-MODIFIED:20250110T150532Z
UID:10002993-1780736400-1780743600@legacypark.org
SUMMARY:HOA Office Open
DESCRIPTION:
URL:https://legacypark.org/event-calendar/hoa-office-open-77/2026-06-06
LOCATION:Legacy Park HOA Office (under the Clubhouse)\, Kennesaw\, Georgia\, 30144\, US
END:VEVENT
BEGIN:VEVENT
DTSTART;TZID=America/New_York:20260704T090000
DTEND;TZID=America/New_York:20260704T110000
DTSTAMP:20260420T112515
CREATED:20250110T150532Z
LAST-MODIFIED:20250110T150532Z
UID:10002994-1783155600-1783162800@legacypark.org
SUMMARY:HOA Office Open
DESCRIPTION:
URL:https://legacypark.org/event-calendar/hoa-office-open-77/2026-07-04
LOCATION:Legacy Park HOA Office (under the Clubhouse)\, Kennesaw\, Georgia\, 30144\, US
END:VEVENT
BEGIN:VEVENT
DTSTART;TZID=America/New_York:20260801T090000
DTEND;TZID=America/New_York:20260801T110000
DTSTAMP:20260420T112515
CREATED:20250110T150532Z
LAST-MODIFIED:20250110T150532Z
UID:10002995-1785574800-1785582000@legacypark.org
SUMMARY:HOA Office Open
DESCRIPTION:
URL:https://legacypark.org/event-calendar/hoa-office-open-77/2026-08-01
LOCATION:Legacy Park HOA Office (under the Clubhouse)\, Kennesaw\, Georgia\, 30144\, US
END:VEVENT
BEGIN:VEVENT
DTSTART;TZID=America/New_York:20261003T090000
DTEND;TZID=America/New_York:20261003T110000
DTSTAMP:20260420T112515
CREATED:20250110T150532Z
LAST-MODIFIED:20250110T150532Z
UID:10002997-1791018000-1791025200@legacypark.org
SUMMARY:HOA Office Open
DESCRIPTION:
URL:https://legacypark.org/event-calendar/hoa-office-open-77/2026-10-03
LOCATION:Legacy Park HOA Office (under the Clubhouse)\, Kennesaw\, Georgia\, 30144\, US
END:VEVENT
BEGIN:VEVENT
DTSTART;TZID=America/New_York:20261107T090000
DTEND;TZID=America/New_York:20261107T110000
DTSTAMP:20260420T112515
CREATED:20250110T150532Z
LAST-MODIFIED:20250110T150532Z
UID:10002998-1794042000-1794049200@legacypark.org
SUMMARY:HOA Office Open
DESCRIPTION:
URL:https://legacypark.org/event-calendar/hoa-office-open-77/2026-11-07
LOCATION:Legacy Park HOA Office (under the Clubhouse)\, Kennesaw\, Georgia\, 30144\, US
END:VEVENT
BEGIN:VEVENT
DTSTART;TZID=America/New_York:20261205T090000
DTEND;TZID=America/New_York:20261205T110000
DTSTAMP:20260420T112515
CREATED:20250110T150532Z
LAST-MODIFIED:20250110T150532Z
UID:10002999-1796461200-1796468400@legacypark.org
SUMMARY:HOA Office Open
DESCRIPTION:
URL:https://legacypark.org/event-calendar/hoa-office-open-77/2026-12-05
LOCATION:Legacy Park HOA Office (under the Clubhouse)\, Kennesaw\, Georgia\, 30144\, US
END:VEVENT
BEGIN:VEVENT
DTSTART;TZID=America/New_York:20270102T090000
DTEND;TZID=America/New_York:20270102T110000
DTSTAMP:20260420T112515
CREATED:20250110T150532Z
LAST-MODIFIED:20250110T150532Z
UID:10003000-1798880400-1798887600@legacypark.org
SUMMARY:HOA Office Open
DESCRIPTION:
URL:https://legacypark.org/event-calendar/hoa-office-open-77/2027-01-02
LOCATION:Legacy Park HOA Office (under the Clubhouse)\, Kennesaw\, Georgia\, 30144\, US
END:VEVENT
BEGIN:VEVENT
DTSTART;TZID=America/New_York:20270206T090000
DTEND;TZID=America/New_York:20270206T110000
DTSTAMP:20260420T112515
CREATED:20250110T150532Z
LAST-MODIFIED:20250110T150532Z
UID:10003001-1801904400-1801911600@legacypark.org
SUMMARY:HOA Office Open
DESCRIPTION:
URL:https://legacypark.org/event-calendar/hoa-office-open-77/2027-02-06
LOCATION:Legacy Park HOA Office (under the Clubhouse)\, Kennesaw\, Georgia\, 30144\, US
END:VEVENT
BEGIN:VEVENT
DTSTART;TZID=America/New_York:20270306T090000
DTEND;TZID=America/New_York:20270306T110000
DTSTAMP:20260420T112515
CREATED:20250110T150532Z
LAST-MODIFIED:20250110T150532Z
UID:10003002-1804323600-1804330800@legacypark.org
SUMMARY:HOA Office Open
DESCRIPTION:
URL:https://legacypark.org/event-calendar/hoa-office-open-77/2027-03-06
LOCATION:Legacy Park HOA Office (under the Clubhouse)\, Kennesaw\, Georgia\, 30144\, US
END:VEVENT
BEGIN:VEVENT
DTSTART;TZID=America/New_York:20270403T090000
DTEND;TZID=America/New_York:20270403T110000
DTSTAMP:20260420T112515
CREATED:20250110T150532Z
LAST-MODIFIED:20250110T150532Z
UID:10003003-1806742800-1806750000@legacypark.org
SUMMARY:HOA Office Open
DESCRIPTION:
URL:https://legacypark.org/event-calendar/hoa-office-open-77/2027-04-03
LOCATION:Legacy Park HOA Office (under the Clubhouse)\, Kennesaw\, Georgia\, 30144\, US
END:VEVENT
BEGIN:VEVENT
DTSTART;TZID=America/New_York:20270501T090000
DTEND;TZID=America/New_York:20270501T110000
DTSTAMP:20260420T112515
CREATED:20250110T150532Z
LAST-MODIFIED:20250110T150532Z
UID:10003004-1809162000-1809169200@legacypark.org
SUMMARY:HOA Office Open
DESCRIPTION:
URL:https://legacypark.org/event-calendar/hoa-office-open-77/2027-05-01
LOCATION:Legacy Park HOA Office (under the Clubhouse)\, Kennesaw\, Georgia\, 30144\, US
END:VEVENT
BEGIN:VEVENT
DTSTART;TZID=America/New_York:20270605T090000
DTEND;TZID=America/New_York:20270605T110000
DTSTAMP:20260420T112515
CREATED:20250110T150532Z
LAST-MODIFIED:20250110T150532Z
UID:10003005-1812186000-1812193200@legacypark.org
SUMMARY:HOA Office Open
DESCRIPTION:
URL:https://legacypark.org/event-calendar/hoa-office-open-77/2027-06-05
LOCATION:Legacy Park HOA Office (under the Clubhouse)\, Kennesaw\, Georgia\, 30144\, US
END:VEVENT
BEGIN:VEVENT
DTSTART;TZID=America/New_York:20270703T090000
DTEND;TZID=America/New_York:20270703T110000
DTSTAMP:20260420T112515
CREATED:20250110T150532Z
LAST-MODIFIED:20250110T150532Z
UID:10003006-1814605200-1814612400@legacypark.org
SUMMARY:HOA Office Open
DESCRIPTION:
URL:https://legacypark.org/event-calendar/hoa-office-open-77/2027-07-03
LOCATION:Legacy Park HOA Office (under the Clubhouse)\, Kennesaw\, Georgia\, 30144\, US
END:VEVENT
BEGIN:VEVENT
DTSTART;TZID=America/New_York:20270807T090000
DTEND;TZID=America/New_York:20270807T110000
DTSTAMP:20260420T112515
CREATED:20250110T150532Z
LAST-MODIFIED:20250110T150532Z
UID:10003007-1817629200-1817636400@legacypark.org
SUMMARY:HOA Office Open
DESCRIPTION:
URL:https://legacypark.org/event-calendar/hoa-office-open-77/2027-08-07
LOCATION:Legacy Park HOA Office (under the Clubhouse)\, Kennesaw\, Georgia\, 30144\, US
END:VEVENT
BEGIN:VEVENT
DTSTART;TZID=America/New_York:20270904T090000
DTEND;TZID=America/New_York:20270904T110000
DTSTAMP:20260420T112515
CREATED:20250110T150532Z
LAST-MODIFIED:20250110T150532Z
UID:10003008-1820048400-1820055600@legacypark.org
SUMMARY:HOA Office Open
DESCRIPTION:
URL:https://legacypark.org/event-calendar/hoa-office-open-77/2027-09-04
LOCATION:Legacy Park HOA Office (under the Clubhouse)\, Kennesaw\, Georgia\, 30144\, US
END:VEVENT
BEGIN:VEVENT
DTSTART;TZID=America/New_York:20271002T090000
DTEND;TZID=America/New_York:20271002T110000
DTSTAMP:20260420T112515
CREATED:20250110T150532Z
LAST-MODIFIED:20250110T150532Z
UID:10003009-1822467600-1822474800@legacypark.org
SUMMARY:HOA Office Open
DESCRIPTION:
URL:https://legacypark.org/event-calendar/hoa-office-open-77/2027-10-02
LOCATION:Legacy Park HOA Office (under the Clubhouse)\, Kennesaw\, Georgia\, 30144\, US
END:VEVENT
BEGIN:VEVENT
DTSTART;TZID=America/New_York:20271106T090000
DTEND;TZID=America/New_York:20271106T110000
DTSTAMP:20260420T112515
CREATED:20250110T150532Z
LAST-MODIFIED:20250110T150532Z
UID:10003010-1825491600-1825498800@legacypark.org
SUMMARY:HOA Office Open
DESCRIPTION:
URL:https://legacypark.org/event-calendar/hoa-office-open-77/2027-11-06
LOCATION:Legacy Park HOA Office (under the Clubhouse)\, Kennesaw\, Georgia\, 30144\, US
END:VEVENT
BEGIN:VEVENT
DTSTART;TZID=America/New_York:20271204T090000
DTEND;TZID=America/New_York:20271204T110000
DTSTAMP:20260420T112515
CREATED:20250110T150532Z
LAST-MODIFIED:20250110T150532Z
UID:10003011-1827910800-1827918000@legacypark.org
SUMMARY:HOA Office Open
DESCRIPTION:
URL:https://legacypark.org/event-calendar/hoa-office-open-77/2027-12-04
LOCATION:Legacy Park HOA Office (under the Clubhouse)\, Kennesaw\, Georgia\, 30144\, US
END:VEVENT
BEGIN:VEVENT
DTSTART;TZID=America/New_York:20280101T090000
DTEND;TZID=America/New_York:20280101T110000
DTSTAMP:20260420T112515
CREATED:20250110T150532Z
LAST-MODIFIED:20250110T150532Z
UID:10003012-1830330000-1830337200@legacypark.org
SUMMARY:HOA Office Open
DESCRIPTION:
URL:https://legacypark.org/event-calendar/hoa-office-open-77/2028-01-01
LOCATION:Legacy Park HOA Office (under the Clubhouse)\, Kennesaw\, Georgia\, 30144\, US
END:VEVENT
BEGIN:VEVENT
DTSTART;TZID=America/New_York:20280205T090000
DTEND;TZID=America/New_York:20280205T110000
DTSTAMP:20260420T112515
CREATED:20250110T150532Z
LAST-MODIFIED:20250110T150532Z
UID:10003013-1833354000-1833361200@legacypark.org
SUMMARY:HOA Office Open
DESCRIPTION:
URL:https://legacypark.org/event-calendar/hoa-office-open-77/2028-02-05
LOCATION:Legacy Park HOA Office (under the Clubhouse)\, Kennesaw\, Georgia\, 30144\, US
END:VEVENT
BEGIN:VEVENT
DTSTART;TZID=America/New_York:20280304T090000
DTEND;TZID=America/New_York:20280304T110000
DTSTAMP:20260420T112515
CREATED:20250110T150532Z
LAST-MODIFIED:20250110T150532Z
UID:10003014-1835773200-1835780400@legacypark.org
SUMMARY:HOA Office Open
DESCRIPTION:
URL:https://legacypark.org/event-calendar/hoa-office-open-77/2028-03-04
LOCATION:Legacy Park HOA Office (under the Clubhouse)\, Kennesaw\, Georgia\, 30144\, US
END:VEVENT
BEGIN:VEVENT
DTSTART;TZID=America/New_York:20280401T090000
DTEND;TZID=America/New_York:20280401T110000
DTSTAMP:20260420T112515
CREATED:20250110T150532Z
LAST-MODIFIED:20250110T150532Z
UID:10003015-1838192400-1838199600@legacypark.org
SUMMARY:HOA Office Open
DESCRIPTION:
URL:https://legacypark.org/event-calendar/hoa-office-open-77/2028-04-01
LOCATION:Legacy Park HOA Office (under the Clubhouse)\, Kennesaw\, Georgia\, 30144\, US
END:VEVENT
BEGIN:VEVENT
DTSTART;TZID=America/New_York:20280506T090000
DTEND;TZID=America/New_York:20280506T110000
DTSTAMP:20260420T112515
CREATED:20250110T150532Z
LAST-MODIFIED:20250110T150532Z
UID:10003016-1841216400-1841223600@legacypark.org
SUMMARY:HOA Office Open
DESCRIPTION:
URL:https://legacypark.org/event-calendar/hoa-office-open-77/2028-05-06
LOCATION:Legacy Park HOA Office (under the Clubhouse)\, Kennesaw\, Georgia\, 30144\, US
END:VEVENT
BEGIN:VEVENT
DTSTART;TZID=America/New_York:20280603T090000
DTEND;TZID=America/New_York:20280603T110000
DTSTAMP:20260420T112515
CREATED:20250110T150532Z
LAST-MODIFIED:20250110T150532Z
UID:10003017-1843635600-1843642800@legacypark.org
SUMMARY:HOA Office Open
DESCRIPTION:
URL:https://legacypark.org/event-calendar/hoa-office-open-77/2028-06-03
LOCATION:Legacy Park HOA Office (under the Clubhouse)\, Kennesaw\, Georgia\, 30144\, US
END:VEVENT
BEGIN:VEVENT
DTSTART;TZID=America/New_York:20280701T090000
DTEND;TZID=America/New_York:20280701T110000
DTSTAMP:20260420T112515
CREATED:20250110T150532Z
LAST-MODIFIED:20250110T150532Z
UID:10003018-1846054800-1846062000@legacypark.org
SUMMARY:HOA Office Open
DESCRIPTION:
URL:https://legacypark.org/event-calendar/hoa-office-open-77/2028-07-01
LOCATION:Legacy Park HOA Office (under the Clubhouse)\, Kennesaw\, Georgia\, 30144\, US
END:VEVENT
BEGIN:VEVENT
DTSTART;TZID=America/New_York:20280805T090000
DTEND;TZID=America/New_York:20280805T110000
DTSTAMP:20260420T112515
CREATED:20250110T150532Z
LAST-MODIFIED:20250110T150532Z
UID:10003019-1849078800-1849086000@legacypark.org
SUMMARY:HOA Office Open
DESCRIPTION:
URL:https://legacypark.org/event-calendar/hoa-office-open-77/2028-08-05
LOCATION:Legacy Park HOA Office (under the Clubhouse)\, Kennesaw\, Georgia\, 30144\, US
END:VEVENT
BEGIN:VEVENT
DTSTART;TZID=America/New_York:20280902T090000
DTEND;TZID=America/New_York:20280902T110000
DTSTAMP:20260420T112515
CREATED:20250110T150532Z
LAST-MODIFIED:20250110T150532Z
UID:10003020-1851498000-1851505200@legacypark.org
SUMMARY:HOA Office Open
DESCRIPTION:
URL:https://legacypark.org/event-calendar/hoa-office-open-77/2028-09-02
LOCATION:Legacy Park HOA Office (under the Clubhouse)\, Kennesaw\, Georgia\, 30144\, US
END:VEVENT
BEGIN:VEVENT
DTSTART;TZID=America/New_York:20281007T090000
DTEND;TZID=America/New_York:20281007T110000
DTSTAMP:20260420T112515
CREATED:20250110T150532Z
LAST-MODIFIED:20250110T150532Z
UID:10003021-1854522000-1854529200@legacypark.org
SUMMARY:HOA Office Open
DESCRIPTION:
URL:https://legacypark.org/event-calendar/hoa-office-open-77/2028-10-07
LOCATION:Legacy Park HOA Office (under the Clubhouse)\, Kennesaw\, Georgia\, 30144\, US
END:VEVENT
BEGIN:VEVENT
DTSTART;TZID=America/New_York:20281104T090000
DTEND;TZID=America/New_York:20281104T110000
DTSTAMP:20260420T112515
CREATED:20250110T150532Z
LAST-MODIFIED:20250110T150532Z
UID:10003022-1856941200-1856948400@legacypark.org
SUMMARY:HOA Office Open
DESCRIPTION:
URL:https://legacypark.org/event-calendar/hoa-office-open-77/2028-11-04
LOCATION:Legacy Park HOA Office (under the Clubhouse)\, Kennesaw\, Georgia\, 30144\, US
END:VEVENT
END:VCALENDAR