BEGIN:VCALENDAR
VERSION:2.0
PRODID:-//Legacy Park - ECPv6.15.20//NONSGML v1.0//EN
CALSCALE:GREGORIAN
METHOD:PUBLISH
X-ORIGINAL-URL:https://legacypark.org
X-WR-CALDESC:Events for Legacy Park
REFRESH-INTERVAL;VALUE=DURATION:PT1H
X-Robots-Tag:noindex
X-PUBLISHED-TTL:PT1H
BEGIN:VTIMEZONE
TZID:America/New_York
BEGIN:DAYLIGHT
TZOFFSETFROM:-0500
TZOFFSETTO:-0400
TZNAME:EDT
DTSTART:20250309T070000
END:DAYLIGHT
BEGIN:STANDARD
TZOFFSETFROM:-0400
TZOFFSETTO:-0500
TZNAME:EST
DTSTART:20251102T060000
END:STANDARD
BEGIN:DAYLIGHT
TZOFFSETFROM:-0500
TZOFFSETTO:-0400
TZNAME:EDT
DTSTART:20260308T070000
END:DAYLIGHT
BEGIN:STANDARD
TZOFFSETFROM:-0400
TZOFFSETTO:-0500
TZNAME:EST
DTSTART:20261101T060000
END:STANDARD
BEGIN:DAYLIGHT
TZOFFSETFROM:-0500
TZOFFSETTO:-0400
TZNAME:EDT
DTSTART:20270314T070000
END:DAYLIGHT
BEGIN:STANDARD
TZOFFSETFROM:-0400
TZOFFSETTO:-0500
TZNAME:EST
DTSTART:20271107T060000
END:STANDARD
END:VTIMEZONE
BEGIN:VEVENT
DTSTART;TZID=America/New_York:20260506T160000
DTEND;TZID=America/New_York:20260506T210000
DTSTAMP:20260425T101025
CREATED:20260414T145548Z
LAST-MODIFIED:20260414T145548Z
UID:10003973-1778083200-1778101200@legacypark.org
SUMMARY:Clubhouse Closed
DESCRIPTION:
URL:https://legacypark.org/event-calendar/clubhouse-closed-206
LOCATION:Legacy Park Clubhouse\, Kennesaw\, GA\, 30144
END:VEVENT
BEGIN:VEVENT
DTSTART;TZID=America/New_York:20260510T143000
DTEND;TZID=America/New_York:20260510T220000
DTSTAMP:20260425T101025
CREATED:20260310T154910Z
LAST-MODIFIED:20260310T154910Z
UID:10003946-1778423400-1778450400@legacypark.org
SUMMARY:*McColl Event
DESCRIPTION:
URL:https://legacypark.org/event-calendar/mccoll-event-4
LOCATION:Legacy Park Clubhouse\, Kennesaw\, GA\, 30144
END:VEVENT
BEGIN:VEVENT
DTSTART;TZID=America/New_York:20260511T190000
DTEND;TZID=America/New_York:20260511T210000
DTSTAMP:20260425T101025
CREATED:20251103T181044Z
LAST-MODIFIED:20251103T181044Z
UID:10003543-1778526000-1778533200@legacypark.org
SUMMARY:Boy Scouts
DESCRIPTION:
URL:https://legacypark.org/event-calendar/boy-scouts-64/2026-05-11
LOCATION:Legacy Park Clubhouse\, Kennesaw\, GA\, 30144
END:VEVENT
BEGIN:VEVENT
DTSTART;TZID=America/New_York:20260512T100000
DTEND;TZID=America/New_York:20260512T110000
DTSTAMP:20260425T101025
CREATED:20211115T163915Z
LAST-MODIFIED:20211115T164010Z
UID:10001273-1778580000-1778583600@legacypark.org
SUMMARY:Story Time
DESCRIPTION:
URL:https://legacypark.org/event-calendar/story-time-18/2026-05-12
LOCATION:Legacy Park Clubhouse\, Kennesaw\, GA\, 30144
END:VEVENT
BEGIN:VEVENT
DTSTART;TZID=America/New_York:20260512T183000
DTEND;TZID=America/New_York:20260512T200000
DTSTAMP:20260425T101025
CREATED:20250909T160231Z
LAST-MODIFIED:20260216T204949Z
UID:10003346-1778610600-1778616000@legacypark.org
SUMMARY:Board Planning Session
DESCRIPTION:
URL:https://legacypark.org/event-calendar/board-planning-session-19/2026-05-12
LOCATION:Legacy Park Clubhouse\, Kennesaw\, GA\, 30144
END:VEVENT
BEGIN:VEVENT
DTSTART;TZID=America/New_York:20260513T130000
DTEND;TZID=America/New_York:20260513T180000
DTSTAMP:20260425T101025
CREATED:20251218T154754Z
LAST-MODIFIED:20251218T154812Z
UID:10003496-1778677200-1778695200@legacypark.org
SUMMARY:Red Cross Blood Drive
DESCRIPTION:
URL:https://legacypark.org/event-calendar/red-cross-blood-drive-38
LOCATION:Legacy Park Clubhouse\, Kennesaw\, GA\, 30144
END:VEVENT
BEGIN:VEVENT
DTSTART;TZID=America/New_York:20260513T190000
DTEND;TZID=America/New_York:20260513T200000
DTSTAMP:20260425T101025
CREATED:20231106T152542Z
LAST-MODIFIED:20231106T152542Z
UID:10002437-1778698800-1778702400@legacypark.org
SUMMARY:Closed Meeting
DESCRIPTION:
URL:https://legacypark.org/event-calendar/closed-meeting/2026-05-13
LOCATION:Legacy Park Clubhouse\, Kennesaw\, GA\, 30144
END:VEVENT
BEGIN:VEVENT
DTSTART;TZID=America/New_York:20260514T100000
DTEND;TZID=America/New_York:20260514T150000
DTSTAMP:20260425T101025
CREATED:20251014T155721Z
LAST-MODIFIED:20251014T155721Z
UID:10003497-1778752800-1778770800@legacypark.org
SUMMARY:Red Cross Blood Drive
DESCRIPTION:
URL:https://legacypark.org/event-calendar/red-cross-blood-drive-30/2026-05-14
LOCATION:Legacy Park Clubhouse\, Kennesaw\, GA\, 30144
END:VEVENT
BEGIN:VEVENT
DTSTART;TZID=America/New_York:20260514T170000
DTEND;TZID=America/New_York:20260514T210000
DTSTAMP:20260425T101025
CREATED:20260416T161258Z
LAST-MODIFIED:20260416T161258Z
UID:10003976-1778778000-1778792400@legacypark.org
SUMMARY:Clubhouse Closed
DESCRIPTION:
URL:https://legacypark.org/event-calendar/clubhouse-closed-208
LOCATION:Legacy Park Clubhouse\, Kennesaw\, GA\, 30144
END:VEVENT
BEGIN:VEVENT
DTSTART;TZID=America/New_York:20260516T123000
DTEND;TZID=America/New_York:20260516T163000
DTSTAMP:20260425T101025
CREATED:20260220T221756Z
LAST-MODIFIED:20260220T221756Z
UID:10003906-1778934600-1778949000@legacypark.org
SUMMARY:*Ridenour Event
DESCRIPTION:
URL:https://legacypark.org/event-calendar/ridenour-event-2
LOCATION:Legacy Park Clubhouse\, Kennesaw\, GA\, 30144
END:VEVENT
BEGIN:VEVENT
DTSTART;TZID=America/New_York:20260516T170000
DTEND;TZID=America/New_York:20260516T230000
DTSTAMP:20260425T101025
CREATED:20260102T173852Z
LAST-MODIFIED:20260102T173852Z
UID:10003809-1778950800-1778972400@legacypark.org
SUMMARY:*Malcolm Event
DESCRIPTION:
URL:https://legacypark.org/event-calendar/malcolm-event
LOCATION:Legacy Park Clubhouse\, Kennesaw\, GA\, 30144
END:VEVENT
BEGIN:VEVENT
DTSTART;TZID=America/New_York:20260517T143000
DTEND;TZID=America/New_York:20260517T183000
DTSTAMP:20260425T101025
CREATED:20260220T164356Z
LAST-MODIFIED:20260225T203524Z
UID:10003905-1779028200-1779042600@legacypark.org
SUMMARY:*Lamb Event
DESCRIPTION:
URL:https://legacypark.org/event-calendar/lamb-event
LOCATION:Legacy Park Clubhouse\, Kennesaw\, GA\, 30144
END:VEVENT
BEGIN:VEVENT
DTSTART;VALUE=DATE:20260518
DTEND;VALUE=DATE:20260520
DTSTAMP:20260425T101025
CREATED:20250923T161001Z
LAST-MODIFIED:20250923T161001Z
UID:10003431-1779062400-1779235199@legacypark.org
SUMMARY:GENERAL PRIMARY ELECTION/NONPARTISAN ELECTION
DESCRIPTION:
URL:https://legacypark.org/event-calendar/general-primary-election-nonpartisan-election
LOCATION:Legacy Park Clubhouse\, Kennesaw\, GA\, 30144
END:VEVENT
BEGIN:VEVENT
DTSTART;TZID=America/New_York:20260518T190000
DTEND;TZID=America/New_York:20260518T210000
DTSTAMP:20260425T101025
CREATED:20251103T181044Z
LAST-MODIFIED:20251103T181044Z
UID:10003544-1779130800-1779138000@legacypark.org
SUMMARY:Boy Scouts
DESCRIPTION:
URL:https://legacypark.org/event-calendar/boy-scouts-64/2026-05-18
LOCATION:Legacy Park Clubhouse\, Kennesaw\, GA\, 30144
END:VEVENT
BEGIN:VEVENT
DTSTART;TZID=America/New_York:20260520T090000
DTEND;TZID=America/New_York:20260520T170000
DTSTAMP:20260425T101025
CREATED:20250923T161114Z
LAST-MODIFIED:20250923T161114Z
UID:10003432-1779267600-1779296400@legacypark.org
SUMMARY:GENERAL PRIMARY ELECTION/NONPARTISAN ELECTION
DESCRIPTION:
URL:https://legacypark.org/event-calendar/general-primary-election-nonpartisan-election-2
LOCATION:Legacy Park Clubhouse\, Kennesaw\, GA\, 30144
END:VEVENT
BEGIN:VEVENT
DTSTART;TZID=America/New_York:20260521T190000
DTEND;TZID=America/New_York:20260521T220000
DTSTAMP:20260425T101025
CREATED:20260423T154408Z
LAST-MODIFIED:20260423T154408Z
UID:10003986-1779390000-1779400800@legacypark.org
SUMMARY:*Lamb Event
DESCRIPTION:
URL:https://legacypark.org/event-calendar/lamb-event-2
LOCATION:Legacy Park Clubhouse\, Kennesaw\, GA\, 30144
END:VEVENT
BEGIN:VEVENT
DTSTART;TZID=America/New_York:20260523T123000
DTEND;TZID=America/New_York:20260523T163000
DTSTAMP:20260425T101025
CREATED:20260113T163840Z
LAST-MODIFIED:20260113T163840Z
UID:10003839-1779539400-1779553800@legacypark.org
SUMMARY:*Bampfield Event
DESCRIPTION:
URL:https://legacypark.org/event-calendar/bampfield-event-2
LOCATION:Legacy Park Clubhouse\, Kennesaw\, GA\, 30144
END:VEVENT
BEGIN:VEVENT
DTSTART;TZID=America/New_York:20260524T143000
DTEND;TZID=America/New_York:20260524T220000
DTSTAMP:20260425T101025
CREATED:20260102T152240Z
LAST-MODIFIED:20260102T152240Z
UID:10003807-1779633000-1779660000@legacypark.org
SUMMARY:*Wallace Event
DESCRIPTION:
URL:https://legacypark.org/event-calendar/wallace-event-2
LOCATION:Legacy Park Clubhouse\, Kennesaw\, GA\, 30144
END:VEVENT
BEGIN:VEVENT
DTSTART;TZID=America/New_York:20260526T183000
DTEND;TZID=America/New_York:20260526T200000
DTSTAMP:20260425T101025
CREATED:20250909T160412Z
LAST-MODIFIED:20260215T201658Z
UID:10003359-1779820200-1779825600@legacypark.org
SUMMARY:Board Meeting
DESCRIPTION:
URL:https://legacypark.org/event-calendar/board-meeting-29/2026-05-26
LOCATION:Legacy Park Clubhouse\, Kennesaw\, GA\, 30144
END:VEVENT
BEGIN:VEVENT
DTSTART;TZID=America/New_York:20260529T170000
DTEND;TZID=America/New_York:20260529T230000
DTSTAMP:20260425T101025
CREATED:20260114T155817Z
LAST-MODIFIED:20260114T155817Z
UID:10003840-1780074000-1780095600@legacypark.org
SUMMARY:*Ball Event
DESCRIPTION:
URL:https://legacypark.org/event-calendar/ball-event
LOCATION:Legacy Park Clubhouse\, Kennesaw\, GA\, 30144
END:VEVENT
BEGIN:VEVENT
DTSTART;TZID=America/New_York:20260530T123000
DTEND;TZID=America/New_York:20260530T163000
DTSTAMP:20260425T101025
CREATED:20260415T153424Z
LAST-MODIFIED:20260415T153424Z
UID:10003974-1780144200-1780158600@legacypark.org
SUMMARY:*Graham Event
DESCRIPTION:
URL:https://legacypark.org/event-calendar/graham-event
LOCATION:Legacy Park Clubhouse\, Kennesaw\, GA\, 30144
END:VEVENT
BEGIN:VEVENT
DTSTART;TZID=America/New_York:20260530T170000
DTEND;TZID=America/New_York:20260530T230000
DTSTAMP:20260425T101025
CREATED:20260102T153433Z
LAST-MODIFIED:20260102T153433Z
UID:10003808-1780160400-1780182000@legacypark.org
SUMMARY:*Sisouphanh Event
DESCRIPTION:
URL:https://legacypark.org/event-calendar/sisouphanh-event-3
LOCATION:Legacy Park Clubhouse\, Kennesaw\, GA\, 30144
END:VEVENT
BEGIN:VEVENT
DTSTART;TZID=America/New_York:20260531T100000
DTEND;TZID=America/New_York:20260531T183000
DTSTAMP:20260425T101025
CREATED:20260223T203245Z
LAST-MODIFIED:20260223T203245Z
UID:10003910-1780221600-1780252200@legacypark.org
SUMMARY:*Carswell Event
DESCRIPTION:
URL:https://legacypark.org/event-calendar/carswell-event
LOCATION:Legacy Park Clubhouse\, Kennesaw\, GA\, 30144
END:VEVENT
BEGIN:VEVENT
DTSTART;TZID=America/New_York:20260601T190000
DTEND;TZID=America/New_York:20260601T210000
DTSTAMP:20260425T101025
CREATED:20251103T181044Z
LAST-MODIFIED:20251103T181044Z
UID:10003546-1780340400-1780347600@legacypark.org
SUMMARY:Boy Scouts
DESCRIPTION:
URL:https://legacypark.org/event-calendar/boy-scouts-64/2026-06-01
LOCATION:Legacy Park Clubhouse\, Kennesaw\, GA\, 30144
END:VEVENT
BEGIN:VEVENT
DTSTART;TZID=America/New_York:20260602T190000
DTEND;TZID=America/New_York:20260602T200000
DTSTAMP:20260425T101025
CREATED:20231106T152223Z
LAST-MODIFIED:20231106T152909Z
UID:10002398-1780426800-1780430400@legacypark.org
SUMMARY:Covenants Committee Meeting
DESCRIPTION:
URL:https://legacypark.org/event-calendar/covenants-committee-meeting-26-2024-03-05/2026-06-02
LOCATION:Legacy Park Clubhouse\, Kennesaw\, GA\, 30144
END:VEVENT
BEGIN:VEVENT
DTSTART;TZID=America/New_York:20260606T123000
DTEND;TZID=America/New_York:20260606T163000
DTSTAMP:20260425T101025
CREATED:20260409T165506Z
LAST-MODIFIED:20260409T165506Z
UID:10003972-1780749000-1780763400@legacypark.org
SUMMARY:*Bridges Event
DESCRIPTION:
URL:https://legacypark.org/event-calendar/bridges-event-4
LOCATION:Legacy Park Clubhouse\, Kennesaw\, GA\, 30144
END:VEVENT
BEGIN:VEVENT
DTSTART;TZID=America/New_York:20260606T170000
DTEND;TZID=America/New_York:20260606T230000
DTSTAMP:20260425T101025
CREATED:20260121T190835Z
LAST-MODIFIED:20260121T190835Z
UID:10003873-1780765200-1780786800@legacypark.org
SUMMARY:*Jimenez Event
DESCRIPTION:
URL:https://legacypark.org/event-calendar/jimenez-event
LOCATION:Legacy Park Clubhouse\, Kennesaw\, GA\, 30144
END:VEVENT
BEGIN:VEVENT
DTSTART;TZID=America/New_York:20260608T190000
DTEND;TZID=America/New_York:20260608T210000
DTSTAMP:20260425T101025
CREATED:20251103T181044Z
LAST-MODIFIED:20251103T181044Z
UID:10003547-1780945200-1780952400@legacypark.org
SUMMARY:Boy Scouts
DESCRIPTION:
URL:https://legacypark.org/event-calendar/boy-scouts-64/2026-06-08
LOCATION:Legacy Park Clubhouse\, Kennesaw\, GA\, 30144
END:VEVENT
BEGIN:VEVENT
DTSTART;TZID=America/New_York:20260609T100000
DTEND;TZID=America/New_York:20260609T110000
DTSTAMP:20260425T101025
CREATED:20211115T163915Z
LAST-MODIFIED:20211115T164010Z
UID:10001274-1780999200-1781002800@legacypark.org
SUMMARY:Story Time
DESCRIPTION:
URL:https://legacypark.org/event-calendar/story-time-18/2026-06-09
LOCATION:Legacy Park Clubhouse\, Kennesaw\, GA\, 30144
END:VEVENT
BEGIN:VEVENT
DTSTART;TZID=America/New_York:20260609T183000
DTEND;TZID=America/New_York:20260609T200000
DTSTAMP:20260425T101025
CREATED:20250909T160231Z
LAST-MODIFIED:20260216T204949Z
UID:10003347-1781029800-1781035200@legacypark.org
SUMMARY:Board Planning Session
DESCRIPTION:
URL:https://legacypark.org/event-calendar/board-planning-session-19/2026-06-09
LOCATION:Legacy Park Clubhouse\, Kennesaw\, GA\, 30144
END:VEVENT
END:VCALENDAR