BEGIN:VCALENDAR
VERSION:2.0
PRODID:-//Legacy Park - ECPv6.15.20//NONSGML v1.0//EN
CALSCALE:GREGORIAN
METHOD:PUBLISH
X-WR-CALNAME:Legacy Park
X-ORIGINAL-URL:https://legacypark.org
X-WR-CALDESC:Events for Legacy Park
REFRESH-INTERVAL;VALUE=DURATION:PT1H
X-Robots-Tag:noindex
X-PUBLISHED-TTL:PT1H
BEGIN:VTIMEZONE
TZID:America/New_York
BEGIN:DAYLIGHT
TZOFFSETFROM:-0500
TZOFFSETTO:-0400
TZNAME:EDT
DTSTART:20250309T070000
END:DAYLIGHT
BEGIN:STANDARD
TZOFFSETFROM:-0400
TZOFFSETTO:-0500
TZNAME:EST
DTSTART:20251102T060000
END:STANDARD
BEGIN:DAYLIGHT
TZOFFSETFROM:-0500
TZOFFSETTO:-0400
TZNAME:EDT
DTSTART:20260308T070000
END:DAYLIGHT
BEGIN:STANDARD
TZOFFSETFROM:-0400
TZOFFSETTO:-0500
TZNAME:EST
DTSTART:20261101T060000
END:STANDARD
BEGIN:DAYLIGHT
TZOFFSETFROM:-0500
TZOFFSETTO:-0400
TZNAME:EDT
DTSTART:20270314T070000
END:DAYLIGHT
BEGIN:STANDARD
TZOFFSETFROM:-0400
TZOFFSETTO:-0500
TZNAME:EST
DTSTART:20271107T060000
END:STANDARD
END:VTIMEZONE
BEGIN:VEVENT
DTSTART;TZID=America/New_York:20260530T123000
DTEND;TZID=America/New_York:20260530T163000
DTSTAMP:20260425T131449
CREATED:20260415T153424Z
LAST-MODIFIED:20260415T153424Z
UID:10003974-1780144200-1780158600@legacypark.org
SUMMARY:*Graham Event
DESCRIPTION:
URL:https://legacypark.org/event-calendar/graham-event
LOCATION:Legacy Park Clubhouse\, Kennesaw\, GA\, 30144
END:VEVENT
BEGIN:VEVENT
DTSTART;TZID=America/New_York:20260530T170000
DTEND;TZID=America/New_York:20260530T230000
DTSTAMP:20260425T131449
CREATED:20260102T153433Z
LAST-MODIFIED:20260102T153433Z
UID:10003808-1780160400-1780182000@legacypark.org
SUMMARY:*Sisouphanh Event
DESCRIPTION:
URL:https://legacypark.org/event-calendar/sisouphanh-event-3
LOCATION:Legacy Park Clubhouse\, Kennesaw\, GA\, 30144
END:VEVENT
BEGIN:VEVENT
DTSTART;TZID=America/New_York:20260531T100000
DTEND;TZID=America/New_York:20260531T183000
DTSTAMP:20260425T131449
CREATED:20260223T203245Z
LAST-MODIFIED:20260223T203245Z
UID:10003910-1780221600-1780252200@legacypark.org
SUMMARY:*Carswell Event
DESCRIPTION:
URL:https://legacypark.org/event-calendar/carswell-event
LOCATION:Legacy Park Clubhouse\, Kennesaw\, GA\, 30144
END:VEVENT
BEGIN:VEVENT
DTSTART;TZID=America/New_York:20260601T190000
DTEND;TZID=America/New_York:20260601T210000
DTSTAMP:20260425T131449
CREATED:20251103T181044Z
LAST-MODIFIED:20251103T181044Z
UID:10003546-1780340400-1780347600@legacypark.org
SUMMARY:Boy Scouts
DESCRIPTION:
URL:https://legacypark.org/event-calendar/boy-scouts-64/2026-06-01
LOCATION:Legacy Park Clubhouse\, Kennesaw\, GA\, 30144
END:VEVENT
BEGIN:VEVENT
DTSTART;TZID=America/New_York:20260602T190000
DTEND;TZID=America/New_York:20260602T200000
DTSTAMP:20260425T131449
CREATED:20231106T152223Z
LAST-MODIFIED:20231106T152909Z
UID:10002398-1780426800-1780430400@legacypark.org
SUMMARY:Covenants Committee Meeting
DESCRIPTION:
URL:https://legacypark.org/event-calendar/covenants-committee-meeting-26-2024-03-05/2026-06-02
LOCATION:Legacy Park Clubhouse\, Kennesaw\, GA\, 30144
END:VEVENT
BEGIN:VEVENT
DTSTART;TZID=America/New_York:20260606T123000
DTEND;TZID=America/New_York:20260606T163000
DTSTAMP:20260425T131449
CREATED:20260409T165506Z
LAST-MODIFIED:20260409T165506Z
UID:10003972-1780749000-1780763400@legacypark.org
SUMMARY:*Bridges Event
DESCRIPTION:
URL:https://legacypark.org/event-calendar/bridges-event-4
LOCATION:Legacy Park Clubhouse\, Kennesaw\, GA\, 30144
END:VEVENT
BEGIN:VEVENT
DTSTART;TZID=America/New_York:20260606T170000
DTEND;TZID=America/New_York:20260606T230000
DTSTAMP:20260425T131449
CREATED:20260121T190835Z
LAST-MODIFIED:20260121T190835Z
UID:10003873-1780765200-1780786800@legacypark.org
SUMMARY:*Jimenez Event
DESCRIPTION:
URL:https://legacypark.org/event-calendar/jimenez-event
LOCATION:Legacy Park Clubhouse\, Kennesaw\, GA\, 30144
END:VEVENT
BEGIN:VEVENT
DTSTART;TZID=America/New_York:20260608T190000
DTEND;TZID=America/New_York:20260608T210000
DTSTAMP:20260425T131449
CREATED:20251103T181044Z
LAST-MODIFIED:20251103T181044Z
UID:10003547-1780945200-1780952400@legacypark.org
SUMMARY:Boy Scouts
DESCRIPTION:
URL:https://legacypark.org/event-calendar/boy-scouts-64/2026-06-08
LOCATION:Legacy Park Clubhouse\, Kennesaw\, GA\, 30144
END:VEVENT
BEGIN:VEVENT
DTSTART;TZID=America/New_York:20260609T100000
DTEND;TZID=America/New_York:20260609T110000
DTSTAMP:20260425T131449
CREATED:20211115T163915Z
LAST-MODIFIED:20211115T164010Z
UID:10001274-1780999200-1781002800@legacypark.org
SUMMARY:Story Time
DESCRIPTION:
URL:https://legacypark.org/event-calendar/story-time-18/2026-06-09
LOCATION:Legacy Park Clubhouse\, Kennesaw\, GA\, 30144
END:VEVENT
BEGIN:VEVENT
DTSTART;TZID=America/New_York:20260609T183000
DTEND;TZID=America/New_York:20260609T200000
DTSTAMP:20260425T131449
CREATED:20250909T160231Z
LAST-MODIFIED:20260216T204949Z
UID:10003347-1781029800-1781035200@legacypark.org
SUMMARY:Board Planning Session
DESCRIPTION:
URL:https://legacypark.org/event-calendar/board-planning-session-19/2026-06-09
LOCATION:Legacy Park Clubhouse\, Kennesaw\, GA\, 30144
END:VEVENT
BEGIN:VEVENT
DTSTART;TZID=America/New_York:20260610T190000
DTEND;TZID=America/New_York:20260610T200000
DTSTAMP:20260425T131449
CREATED:20231106T152542Z
LAST-MODIFIED:20231106T152542Z
UID:10002438-1781118000-1781121600@legacypark.org
SUMMARY:Closed Meeting
DESCRIPTION:
URL:https://legacypark.org/event-calendar/closed-meeting/2026-06-10
LOCATION:Legacy Park Clubhouse\, Kennesaw\, GA\, 30144
END:VEVENT
BEGIN:VEVENT
DTSTART;TZID=America/New_York:20260613T090000
DTEND;TZID=America/New_York:20260613T163000
DTSTAMP:20260425T131449
CREATED:20260227T195525Z
LAST-MODIFIED:20260227T195525Z
UID:10003922-1781341200-1781368200@legacypark.org
SUMMARY:*Redderoth Event
DESCRIPTION:
URL:https://legacypark.org/event-calendar/redderoth-event
LOCATION:Legacy Park Clubhouse\, Kennesaw\, GA\, 30144
END:VEVENT
BEGIN:VEVENT
DTSTART;TZID=America/New_York:20260614T100000
DTEND;TZID=America/New_York:20260614T183000
DTSTAMP:20260425T131449
CREATED:20260316T195914Z
LAST-MODIFIED:20260320T184426Z
UID:10003960-1781431200-1781461800@legacypark.org
SUMMARY:*Ethridge Event
DESCRIPTION:
URL:https://legacypark.org/event-calendar/ethridge-event
LOCATION:Legacy Park Clubhouse\, Kennesaw\, GA\, 30144
END:VEVENT
BEGIN:VEVENT
DTSTART;VALUE=DATE:20260615
DTEND;VALUE=DATE:20260617
DTSTAMP:20260425T131449
CREATED:20250923T161238Z
LAST-MODIFIED:20250923T161238Z
UID:10003433-1781481600-1781654399@legacypark.org
SUMMARY:GENERAL PRIMARY ELECTION/NONPARTISAN ELECTION RUNOFF
DESCRIPTION:
URL:https://legacypark.org/event-calendar/general-primary-election-nonpartisan-election-runoff
LOCATION:Legacy Park Clubhouse\, Kennesaw\, GA\, 30144
END:VEVENT
BEGIN:VEVENT
DTSTART;TZID=America/New_York:20260615T190000
DTEND;TZID=America/New_York:20260615T210000
DTSTAMP:20260425T131449
CREATED:20251103T181044Z
LAST-MODIFIED:20251103T181044Z
UID:10003548-1781550000-1781557200@legacypark.org
SUMMARY:Boy Scouts
DESCRIPTION:
URL:https://legacypark.org/event-calendar/boy-scouts-64/2026-06-15
LOCATION:Legacy Park Clubhouse\, Kennesaw\, GA\, 30144
END:VEVENT
BEGIN:VEVENT
DTSTART;TZID=America/New_York:20260617T090000
DTEND;TZID=America/New_York:20260617T170000
DTSTAMP:20260425T131449
CREATED:20250923T161310Z
LAST-MODIFIED:20250923T161310Z
UID:10003434-1781686800-1781715600@legacypark.org
SUMMARY:GENERAL PRIMARY ELECTION/NONPARTISAN ELECTION RUNOFF
DESCRIPTION:
URL:https://legacypark.org/event-calendar/general-primary-election-nonpartisan-election-runoff-2
LOCATION:Legacy Park Clubhouse\, Kennesaw\, GA\, 30144
END:VEVENT
BEGIN:VEVENT
DTSTART;TZID=America/New_York:20260619T120000
DTEND;TZID=America/New_York:20260619T230000
DTSTAMP:20260425T131449
CREATED:20260323T150507Z
LAST-MODIFIED:20260323T150507Z
UID:10003961-1781870400-1781910000@legacypark.org
SUMMARY:*Wilson Event
DESCRIPTION:
URL:https://legacypark.org/event-calendar/wilson-event-2
LOCATION:Legacy Park Clubhouse\, Kennesaw\, GA\, 30144
END:VEVENT
BEGIN:VEVENT
DTSTART;TZID=America/New_York:20260620T123000
DTEND;TZID=America/New_York:20260620T230000
DTSTAMP:20260425T131449
CREATED:20260423T170213Z
LAST-MODIFIED:20260423T170213Z
UID:10003987-1781958600-1781996400@legacypark.org
SUMMARY:*Ezeoke Event
DESCRIPTION:
URL:https://legacypark.org/event-calendar/ezeoke-event-2
LOCATION:Legacy Park Clubhouse\, Kennesaw\, GA\, 30144
END:VEVENT
BEGIN:VEVENT
DTSTART;TZID=America/New_York:20260622T190000
DTEND;TZID=America/New_York:20260622T210000
DTSTAMP:20260425T131449
CREATED:20251103T181044Z
LAST-MODIFIED:20251103T181044Z
UID:10003549-1782154800-1782162000@legacypark.org
SUMMARY:Boy Scouts
DESCRIPTION:
URL:https://legacypark.org/event-calendar/boy-scouts-64/2026-06-22
LOCATION:Legacy Park Clubhouse\, Kennesaw\, GA\, 30144
END:VEVENT
BEGIN:VEVENT
DTSTART;TZID=America/New_York:20260623T183000
DTEND;TZID=America/New_York:20260623T200000
DTSTAMP:20260425T131449
CREATED:20250909T160412Z
LAST-MODIFIED:20260215T201658Z
UID:10003360-1782239400-1782244800@legacypark.org
SUMMARY:Board Meeting
DESCRIPTION:
URL:https://legacypark.org/event-calendar/board-meeting-29/2026-06-23
LOCATION:Legacy Park Clubhouse\, Kennesaw\, GA\, 30144
END:VEVENT
BEGIN:VEVENT
DTSTART;TZID=America/New_York:20260706T190000
DTEND;TZID=America/New_York:20260706T210000
DTSTAMP:20260425T131449
CREATED:20251103T181044Z
LAST-MODIFIED:20251103T181044Z
UID:10003551-1783364400-1783371600@legacypark.org
SUMMARY:Boy Scouts
DESCRIPTION:
URL:https://legacypark.org/event-calendar/boy-scouts-64/2026-07-06
LOCATION:Legacy Park Clubhouse\, Kennesaw\, GA\, 30144
END:VEVENT
BEGIN:VEVENT
DTSTART;TZID=America/New_York:20260707T190000
DTEND;TZID=America/New_York:20260707T200000
DTSTAMP:20260425T131449
CREATED:20231106T152223Z
LAST-MODIFIED:20231106T152909Z
UID:10002399-1783450800-1783454400@legacypark.org
SUMMARY:Covenants Committee Meeting
DESCRIPTION:
URL:https://legacypark.org/event-calendar/covenants-committee-meeting-26-2024-03-05/2026-07-07
LOCATION:Legacy Park Clubhouse\, Kennesaw\, GA\, 30144
END:VEVENT
BEGIN:VEVENT
DTSTART;TZID=America/New_York:20260708T190000
DTEND;TZID=America/New_York:20260708T200000
DTSTAMP:20260425T131449
CREATED:20231106T152542Z
LAST-MODIFIED:20231106T152542Z
UID:10002439-1783537200-1783540800@legacypark.org
SUMMARY:Closed Meeting
DESCRIPTION:
URL:https://legacypark.org/event-calendar/closed-meeting/2026-07-08
LOCATION:Legacy Park Clubhouse\, Kennesaw\, GA\, 30144
END:VEVENT
BEGIN:VEVENT
DTSTART;TZID=America/New_York:20260713T190000
DTEND;TZID=America/New_York:20260713T210000
DTSTAMP:20260425T131449
CREATED:20251103T181044Z
LAST-MODIFIED:20251103T181044Z
UID:10003552-1783969200-1783976400@legacypark.org
SUMMARY:Boy Scouts
DESCRIPTION:
URL:https://legacypark.org/event-calendar/boy-scouts-64/2026-07-13
LOCATION:Legacy Park Clubhouse\, Kennesaw\, GA\, 30144
END:VEVENT
BEGIN:VEVENT
DTSTART;TZID=America/New_York:20260714T100000
DTEND;TZID=America/New_York:20260714T110000
DTSTAMP:20260425T131449
CREATED:20211115T163915Z
LAST-MODIFIED:20211115T164010Z
UID:10001275-1784023200-1784026800@legacypark.org
SUMMARY:Story Time
DESCRIPTION:
URL:https://legacypark.org/event-calendar/story-time-18/2026-07-14
LOCATION:Legacy Park Clubhouse\, Kennesaw\, GA\, 30144
END:VEVENT
BEGIN:VEVENT
DTSTART;TZID=America/New_York:20260714T183000
DTEND;TZID=America/New_York:20260714T200000
DTSTAMP:20260425T131449
CREATED:20250909T160231Z
LAST-MODIFIED:20260216T204949Z
UID:10003348-1784053800-1784059200@legacypark.org
SUMMARY:Board Planning Session
DESCRIPTION:
URL:https://legacypark.org/event-calendar/board-planning-session-19/2026-07-14
LOCATION:Legacy Park Clubhouse\, Kennesaw\, GA\, 30144
END:VEVENT
BEGIN:VEVENT
DTSTART;TZID=America/New_York:20260716T183000
DTEND;TZID=America/New_York:20260716T200000
DTSTAMP:20260425T131449
CREATED:20260109T171859Z
LAST-MODIFIED:20260109T171859Z
UID:10003824-1784226600-1784232000@legacypark.org
SUMMARY:Finance Committee Meeting
DESCRIPTION:
URL:https://legacypark.org/event-calendar/finance-committee-meeting-16
LOCATION:Legacy Park Clubhouse\, Kennesaw\, GA\, 30144
END:VEVENT
BEGIN:VEVENT
DTSTART;TZID=America/New_York:20260718T120000
DTEND;TZID=America/New_York:20260718T160000
DTSTAMP:20260425T131449
CREATED:20260425T125251Z
LAST-MODIFIED:20260425T125251Z
UID:10003989-1784376000-1784390400@legacypark.org
SUMMARY:Simington Event
DESCRIPTION:
URL:https://legacypark.org/event-calendar/simington-event-3
LOCATION:Legacy Park Clubhouse\, Kennesaw\, GA\, 30144
END:VEVENT
BEGIN:VEVENT
DTSTART;TZID=America/New_York:20260720T190000
DTEND;TZID=America/New_York:20260720T210000
DTSTAMP:20260425T131449
CREATED:20251103T181044Z
LAST-MODIFIED:20251103T181044Z
UID:10003553-1784574000-1784581200@legacypark.org
SUMMARY:Boy Scouts
DESCRIPTION:
URL:https://legacypark.org/event-calendar/boy-scouts-64/2026-07-20
LOCATION:Legacy Park Clubhouse\, Kennesaw\, GA\, 30144
END:VEVENT
BEGIN:VEVENT
DTSTART;TZID=America/New_York:20260727T190000
DTEND;TZID=America/New_York:20260727T210000
DTSTAMP:20260425T131449
CREATED:20251103T181044Z
LAST-MODIFIED:20251103T181044Z
UID:10003554-1785178800-1785186000@legacypark.org
SUMMARY:Boy Scouts
DESCRIPTION:
URL:https://legacypark.org/event-calendar/boy-scouts-64/2026-07-27
LOCATION:Legacy Park Clubhouse\, Kennesaw\, GA\, 30144
END:VEVENT
END:VCALENDAR